BEGIN:VCALENDAR
VERSION:2.0
PRODID:-//jEvents 1.5 for Joomla//EN
CALSCALE:GREGORIAN
METHOD:PUBLISH
BEGIN:VEVENT

UID:8dac270ddc5aa519dd9da16f89b12a4f
CATEGORIES:ESO
SUMMARY:Salida a Campo de Criptana con visita guiada en inglés
LOCATION:
DESCRIPTION;ENCODING=QUOTED-PRINTABLE:<p>	Visita a Campo de Criptana junto con alumnos del CEIP Jardín de Arena</
 p>

DTSTAMP:20260423T182132Z
DTSTART:20111027T063000Z
DTEND:20111027T123000Z
SEQUENCE:0
TRANSP:OPAQUE
END:VEVENT
END:VCALENDAR