BEGIN:VCALENDAR
VERSION:2.0
PRODID:-//jEvents 1.5 for Joomla//EN
CALSCALE:GREGORIAN
METHOD:PUBLISH
BEGIN:VEVENT

UID:670d75ca042816b3e786b62ec723bc1b
CATEGORIES:Actividades Extraescolares
SUMMARY:Excursión Madrid y Guadalajara
LOCATION:
DESCRIPTION;ENCODING=QUOTED-PRINTABLE:

DTSTAMP:20260423T023940Z
DTSTART:20120228T064500Z
DTEND:20120228T225959Z
SEQUENCE:0
TRANSP:OPAQUE
END:VEVENT
END:VCALENDAR