BEGIN:VCALENDAR
VERSION:2.0
PRODID:-//jEvents 1.5 for Joomla//EN
CALSCALE:GREGORIAN
METHOD:PUBLISH
BEGIN:VEVENT

UID:95543a441df447142cfdaa306db7d393
CATEGORIES:Ciclos Formativos
SUMMARY:Visita Cortes de Castilla la Mancha
LOCATION:
DESCRIPTION;ENCODING=QUOTED-PRINTABLE:

DTSTAMP:20260422T225947Z
DTSTART:20120301
DTEND:20120301
SEQUENCE:0
TRANSP:OPAQUE
END:VEVENT
END:VCALENDAR