BEGIN:VCALENDAR
VERSION:2.0
PRODID:-//jEvents 1.5 for Joomla//EN
CALSCALE:GREGORIAN
METHOD:PUBLISH
BEGIN:VEVENT

UID:1cd46c819af619d02f1cd88eb8d671cc
CATEGORIES:Calendario público
SUMMARY:Talleres y forum griego a cargo de  “Ludi Saguntini” 
LOCATION:
DESCRIPTION;ENCODING=QUOTED-PRINTABLE:\n\n	Talleres y forum griego a cargo de  &ldquo;Ludi Saguntini&rdquo; \n

DTSTAMP:20260425T102707Z
DTSTART:20120508T104000Z
DTEND:20120509T215959Z
SEQUENCE:0
TRANSP:OPAQUE
END:VEVENT
END:VCALENDAR