BEGIN:VCALENDAR
VERSION:2.0
PRODID:-//jEvents 1.5 for Joomla//EN
CALSCALE:GREGORIAN
METHOD:PUBLISH
BEGIN:VEVENT

UID:387431f1c1c51f655f7aef3d901117d5
CATEGORIES:Calendario público
SUMMARY:Actividades en el Pabellón Díaz-Miguel
LOCATION:
DESCRIPTION;ENCODING=QUOTED-PRINTABLE:\n\n	Actividades en el Pabellón Díaz-Miguel\n\n\n	 \n	\n - 		AJEDREZ VIVIEN
 TE					\n - 				&ldquo;La Iliadasobre el Tablero&rdquo;			\n\n	 \n	\n - 		E
 SCENIFICACIONES					\n - 				\n\n					&ldquo;Bodas de Dioses&rdquo;, a carg
 o de la escuela de danza &ldquo;Alma María García&rdquo;\n						\n - 				\n
 \n					 \n				\n\n					&ldquo; Combate final&rdquo;,  a cargo de Club de Ka
 rate EuropaSport\n				\n\n					 \n						\n\n	 \n

DTSTAMP:20260423T122230Z
DTSTART:20120510T100000Z
DTEND:20120510T215959Z
SEQUENCE:0
TRANSP:OPAQUE
END:VEVENT
END:VCALENDAR