BEGIN:VCALENDAR
VERSION:2.0
PRODID:-//jEvents 1.5 for Joomla//EN
CALSCALE:GREGORIAN
METHOD:PUBLISH
BEGIN:VEVENT

UID:61dcc0bf640e5da93e682d0e2aba3ab4
CATEGORIES:Calendario público
SUMMARY:“Las Olimpiadas en la Antigua Grecia”
LOCATION:
DESCRIPTION;ENCODING=QUOTED-PRINTABLE:<p>	&ldquo;Las Olimpiadas en la Antigua Grecia&rdquo;</p>

DTSTAMP:20260421T041327Z
DTSTART:20120511
DTEND:20120511
SEQUENCE:0
TRANSP:OPAQUE
END:VEVENT
END:VCALENDAR